BEGIN:VCALENDAR
VERSION:2.0
PRODID:-//ChamberMaster//Event Calendar 2.0//EN
METHOD:PUBLISH
X-PUBLISHED-TTL:P3D
REFRESH-INTERVAL:P3D
CALSCALE:GREGORIAN
BEGIN:VEVENT
DTSTART:20241119T223000Z
DTEND:20241120T000000Z
X-MICROSOFT-CDO-ALLDAYEVENT:FALSE
SUMMARY:ROYAL Speed Networking @ 248 Garage
DESCRIPTION:Join other young professionals for an evening of speed networking and relationship building in a unique location on Woodward.  Light snacks will be provided.
X-ALT-DESC;FMTTYPE=text/html:Join other young professionals for an evening of speed networking and relationship building in a unique location on Woodward.&nbsp\; Light snacks will be provided.&nbsp\;
LOCATION:248 Garage 30642 Woodward Ave. Royal Oak\, MI 48073 Parking on side streets around venue.
UID:e.2933.4630
SEQUENCE:3
DTSTAMP:20260423T145115Z
URL:http://royaloakchamber.smartcms.site/events/details/royal-speed-networking-248-garage-4630
END:VEVENT

END:VCALENDAR
