BEGIN:VCALENDAR
VERSION:2.0
PRODID:-//ChamberMaster//Event Calendar 2.0//EN
METHOD:PUBLISH
X-PUBLISHED-TTL:P3D
REFRESH-INTERVAL:P3D
CALSCALE:GREGORIAN
BEGIN:VEVENT
DTSTART:20231110T213000Z
DTEND:20231111T000000Z
X-MICROSOFT-CDO-ALLDAYEVENT:FALSE
SUMMARY:Royal Oak Woman's Club SPAGHETTI DINNER
DESCRIPTION:Great news! The Royal Oak Woman's Club (ROWC) is once again having their SPAGHETTI DINNER. It will be on Friday\, November 10th\, from 4:30 to 7:00 pm at the Clubhouse\, located at 404 S. Pleasant St. off Fourth St in Royal Oak.  \n\n\n\nAll You Can Eat Spaghetti Dinner Includes: your choice of meat or vegetarian spaghetti\, gluten free pasta is available (+$1)\, tossed salad with ROWC famous dressing\, bread\, dessert and beverages of coffee\, tea\, water or lemonade.\n\n\nPurchase your tickets via PayPal at www.rowc.org/shop. \n\n \n\nChecks can be made out to R.O.Woman's Club\n\nPrintable Order Form: https://www.rowc.org/spaghetti-sauce-dinner-order-form\n\nMail checks with order form to Janis Watkins at 3707 Dukeshire\, Royal Oak\, MI 48073\n\nQuestions: 248-549-3701
X-ALT-DESC;FMTTYPE=text/html:<span style="font-family:times new roman"><span style="font-size:14px"><span style="color:black">Great news! The Royal Oak Woman&rsquo\;s Club (ROWC) is once again having their SPAGHETTI DINNER. It will be on Friday\, November 10th\, from 4:30 to 7:00 pm at the Clubhouse\, located at 404 S. Pleasant St. off Fourth St in Royal Oak.&nbsp\;<strong>&nbsp\;</strong></span><br />\n<br />\n<strong style="text-align:center"><strong>All You Can Eat Spaghetti Dinner</strong>&nbsp\;</strong><span style="background-color:transparent\; color:rgb(34\, 34\, 34)">Includes: your choice of meat or vegetarian spaghetti\, gluten free pasta is available (+$1)\, tossed salad with ROWC famous dressing\, bread\, dessert and beverages of coffee\, tea\, water or lemonade.</span></span></span>\n<div><br />\n<span style="color:black">Purchase your tickets via PayPal at </span><a href="http://www.rowc.org/shop"><span style="color:#0563C1">www.rowc.org/shop</span></a><span style="color:black">.&nbsp\;</span><br />\n&nbsp\;<br />\nChecks can be made out to R.O.Woman&#39\;s Club<br />\nPrintable Order Form: <a href="https://www.rowc.org/spaghetti-sauce-dinner-order-form?fbclid=IwAR3Ti42lkUJpCafJVeb-JZt8zb5eGgkw8PmAkbBNfdjXzeMByMEYRuSeEhI" target="_blank"><span style="font-family:segoe ui historic\,sans-serif"><span style="font-size:11.5pt">https://www.rowc.org/spaghetti-sauce-dinner-order-form</span></span></a><br />\nMail checks with order form to Janis Watkins at 3707 Dukeshire\, Royal Oak\, MI 48073<br />\nQuestions: 248-549-3701<br />\n&nbsp\;</div>\n
LOCATION:404 S. PLEASANT\, ROYAL OAK
UID:e.2933.4203
SEQUENCE:3
DTSTAMP:20260422T193638Z
URL:http://royaloakchamber.smartcms.site/events/details/royal-oak-woman-s-club-spaghetti-dinner-4203
END:VEVENT

END:VCALENDAR
