BEGIN:VCALENDAR
VERSION:2.0
PRODID:-//ChamberMaster//Event Calendar 2.0//EN
METHOD:PUBLISH
X-PUBLISHED-TTL:P3D
REFRESH-INTERVAL:P3D
CALSCALE:GREGORIAN
BEGIN:VEVENT
DTSTART:20241020T170000Z
DTEND:20241020T210000Z
X-MICROSOFT-CDO-ALLDAYEVENT:FALSE
SUMMARY:Royal Oak Spooktacular
DESCRIPTION:Presented by:\n\nRoyal Oak Downtown Development Authority\n\nWoodward Corner Market & Meijer\n\n\n\nBusinesses in the DDA-sign up to participate in the Spooky Trick-or-Treat Trail: \n\nhttps://docs.google.com/forms/d/e/1FAIpQLSfN5urAAuG3BEbYtBc7CXosvIXJlqgMmYu8N6uoUBVoflWJYA/viewform?usp=sf_link- THIS link has been closed. \n\n\n\nProduced by the Royal Oak Chamber of Commerce for its 41st year\, Spooktacular is back on Sunday\, October 20! Join us for a fun and free alternative to neighborhood trick or treating\, from 1-4p. Children\, parents & caregivers are encouraged to wear costumes\, bring your own trick or treat bags\, and make sure to pick up a map of our Trick-or-Treat Trail from the Chamber booth\, located in Centennial Commons.\n\n\n\nView the map HERE!\n\n\n\nFrom 1-5pm join us in Centennial Commons for some spooky spins\, magic show & face painting\, & costume parade/contest! All activities are free. \n\n\n\n Email heatherz@royaloakchamber.com for Sponsorship Information! \n\n\n\nTrick or treating will be from 1p-4p.\n\nSpooky Spins in Centennial Commons starting at 1p.\n\nFace Painters in Centennial Commons from 1-5p.\n\nROFD Truck in Centennial Commons from 1-5p.\n\nMagic Show in Centennial Commons at 4p. Bring a chair or blanket to sit on and grab your free (12 and under) Mystic Kettle before the show begins! \n\nCostume Parade/Contest sponsored by Genisys Credit Union\, in Centennial Commons at 4:30p. Sign up at the Chamber booth in Centennial Commons. Prizes will be awarded!
X-ALT-DESC;FMTTYPE=text/html:<span style="font-family:arial\;"><span style="font-size:16px\;"><span style="color:#FF8C00\;"><strong>Presented by:<br />\nRoyal Oak Downtown Development Authority<br />\nWoodward Corner Market &amp\; Meijer</strong></span><br />\n<br />\n<span style="color:#FF8C00\;"><strong>Businesses in the DDA-sign up to participate in the Spooky Trick-or-Treat Trail:&nbsp\;</strong></span><br />\n<a href="https://docs.google.com/forms/d/e/1FAIpQLSfN5urAAuG3BEbYtBc7CXosvIXJlqgMmYu8N6uoUBVoflWJYA/viewform?usp=sf_link">https://docs.google.com/forms/d/e/1FAIpQLSfN5urAAuG3BEbYtBc7CXosvIXJlqgMmYu8N6uoUBVoflWJYA/viewform?usp=sf_link</a>- THIS link has been closed.&nbsp\;<br />\n<br />\nProduced by the Royal Oak Chamber of Commerce for its 41st year\, Spooktacular is back on Sunday\, October 20! Join us for a fun and free alternative to neighborhood trick or treating\, from 1-4p. Children\, parents &amp\; caregivers are encouraged to wear costumes\, bring your own trick or treat bags\, and make sure to pick up a map of our Trick-or-Treat Trail from the Chamber booth\, located in Centennial Commons.<br />\n<br />\nView the map&nbsp\;<a href="http://flowcode.com/p/tv8bvNGzJ?fc=0">HERE!</a><br />\n<br />\nFrom 1-5pm join us in Centennial Commons for some spooky spins\, magic show &amp\; face painting\, &amp\; costume parade/contest! All activities are free.&nbsp\;<br />\n<br />\n&nbsp\;Email heatherz@royaloakchamber.com for Sponsorship Information!&nbsp\;<br />\n<br />\nTrick or treating will be from 1p-4p.<br />\nSpooky Spins in Centennial Commons starting at 1p.<br />\nFace Painters in Centennial Commons from 1-5p.<br />\nROFD Truck in Centennial Commons from 1-5p.<br />\nMagic Show in Centennial Commons at 4p. Bring a chair or blanket to sit on and grab your free (12 and under) Mystic Kettle before the show begins!&nbsp\;<br />\nCostume Parade/Contest sponsored by Genisys Credit Union\, in Centennial Commons at 4:30p. Sign up at the Chamber booth in Centennial Commons. Prizes will be awarded!&nbsp\;</span></span>
LOCATION:Downtown Royal Oak & Centennial Commons (204 S. Troy Street)
UID:e.2933.4228
SEQUENCE:3
DTSTAMP:20260423T075622Z
URL:http://royaloakchamber.smartcms.site/events/details/royal-oak-spooktacular-4228
END:VEVENT

END:VCALENDAR
