BEGIN:VCALENDAR
VERSION:2.0
PRODID:-//ChamberMaster//Event Calendar 2.0//EN
METHOD:PUBLISH
X-PUBLISHED-TTL:P3D
REFRESH-INTERVAL:P3D
CALSCALE:GREGORIAN
BEGIN:VEVENT
DTSTART:20230625T180000Z
DTEND:20230626T000000Z
X-MICROSOFT-CDO-ALLDAYEVENT:FALSE
SUMMARY:Royal Oak Live!
DESCRIPTION:Presented by Henry Ford Health and brought to you by The Royal Oak Chamber of Commerce\, we're bringing you two days of world class smooth grooves to Centennial Commons Park on June 24 & 25\, 2023 at no charge to attendees! Grab your lawn chairs and a drink from a local restaurant (we're in a social district!) and come spend the day in our downtown park. Food trucks will be ready to serve you a quick bite as well. The music will feature a lineup of musicians within the Funk\, R&B and Jazz genres.\n\n\n\nArtistic Director\, Alexander Zonjic\, International award-winning musician and producer will bring his years of experience and talent to make sure we have an amazing musical experience.\n\nIf you are an artist interested in booth space at this event\, please email HeatherZ@RoyalOakChamber.com for more details.\n\n\n\nSunday\, June 25 Line-Up:\n\n2:00-3:00pm- Deon Yates\n\n3:30-4:30pm-Urban Jazz Collection\n\n5:00-6:15pm-Jessy J\n\n6:45-8:00pm- Alex Bugnon
X-ALT-DESC;FMTTYPE=text/html:<div class="x11i5rnm xat24cr x1mh8g0r x1vvkbs xdj266r x126k92a" style="margin: 0px\; overflow-wrap: break-word\;">\n<div dir="auto" style=""><span style="color: rgb(5\, 5\, 5)\; font-family: inherit\; font-size: 18px\; white-space: pre-wrap\;"><span style="font-family:arial\;">Presented by Henry Ford Health and brought to you by The Royal Oak Chamber of Commerce\, we&#39\;re bringing you two days of world class smooth </span></span><font color="#050505" face="arial"><span style="font-size: 18px\; white-space: pre-wrap\;">grooves to Centennial Commons Park on June 24 &amp\; 25\, 2023 at no charge to attendees! Grab your lawn chairs and a drink from a local restaurant (we&#39\;re in a social district!) and come spend the day in our downtown park. Food trucks will be ready to serve you a quick bite as well. The music will feature a lineup of musicians within the Funk\, R&amp\;B and Jazz genres.</span></font></div>\n\n<div dir="auto" style="color: rgb(5\, 5\, 5)\; font-family: inherit\; font-size: 15px\; white-space: pre-wrap\;"><br />\n<span style="font-size:18px\;"><span style="font-family:arial\;">Artistic Director\, Alexander Zonjic\, International award-winning musician and producer will bring his years of experience and talent to make sure we have an amazing musical experience.<br />\n<strong>If you are an artist interested in booth space at this event\, please email HeatherZ@RoyalOakChamber.com for more details.</strong></span></span></div>\n</div>\n\n<div class="x11i5rnm xat24cr x1mh8g0r x1vvkbs xtlvy1s x126k92a" style="margin: 0.5em 0px 0px\; white-space: pre-wrap\; overflow-wrap: break-word\; color: rgb(5\, 5\, 5)\;">\n<div dir="auto" style=""><font face="arial"><span style="font-size: 18px\;">Sunday\, June 25 Line-Up:<br />\n2:00-3:00pm- Deon Yates<br />\n3:30-4:30pm-Urban Jazz Collection<br />\n5:00-6:15pm-Jessy J<br />\n6:45-8:00pm- Alex Bugnon</span></font></div>\n</div>\n
LOCATION:Centennial Commons Park 204 S. Troy Street C.C Park Royal Oak\, MI 48067
UID:e.2933.4106
SEQUENCE:3
DTSTAMP:20260423T220540Z
URL:http://royaloakchamber.smartcms.site/events/details/royal-oak-live-4106
END:VEVENT

END:VCALENDAR
