BEGIN:VCALENDAR
VERSION:2.0
PRODID:-//ChamberMaster//Event Calendar 2.0//EN
METHOD:PUBLISH
X-PUBLISHED-TTL:P3D
REFRESH-INTERVAL:P3D
CALSCALE:GREGORIAN
BEGIN:VEVENT
DTSTART:20230624T180000Z
DTEND:20230625T000000Z
X-MICROSOFT-CDO-ALLDAYEVENT:FALSE
SUMMARY:Royal Oak Live!
DESCRIPTION:Presented by Henry Ford Health and brought to you by The Royal Oak Chamber of Commerce\, we're bringing you two days of world class smooth grooves to Centennial Commons Park on June 24 & 25\, 2023 at no charge to attendees! Grab your lawn chairs and a drink from a local restaurant (we're in a social district!) and come spend the day in our downtown park. Food trucks will be ready to serve you a quick bite as well. The music will feature a lineup of musicians within the Funk\, R&B and Jazz genres.\n\n\n\nArtistic Director\, Alexander Zonjic\, International award-winning musician and producer will bring his years of experience and talent to make sure we have an amazing musical experience.\n\nLearn about local nonprofits and shop fantastic art as part of this festival. \n\n \n\n\n\nSaturday\, June 24 line up:\n\n2:00-3:00pm- The Detroit School of Rock and Pop Music with special guest Dave Weckl\n\n3:30-4:30pm-Lin Rountree\n\n5:00-6:15pm - Lindsey Webster\n\n6:45-8:00pm Alexander Zonjic & Friends with James Lloyd
X-ALT-DESC;FMTTYPE=text/html:<div class="x11i5rnm xat24cr x1mh8g0r x1vvkbs xdj266r x126k92a" style="margin: 0px\; overflow-wrap: break-word\;">\n<div dir="auto" style=""><span style="color: rgb(5\, 5\, 5)\; font-family: inherit\; font-size: 18px\; white-space: pre-wrap\;"><span style="font-family:arial\;">Presented by Henry Ford Health and brought to you by The Royal Oak Chamber of Commerce\, we&#39\;re bringing you two days of world class smooth </span></span><font color="#050505" face="arial"><span style="font-size: 18px\; white-space: pre-wrap\;">grooves to Centennial Commons Park on June 24 &amp\; 25\, 2023 at no charge to attendees! Grab your lawn chairs and a drink from a local restaurant (we&#39\;re in a social district!) and come spend the day in our downtown park. Food trucks will be ready to serve you a quick bite as well. The music will feature a lineup of musicians within the Funk\, R&amp\;B and Jazz genres.</span></font></div>\n\n<div dir="auto" style=""><br />\n<font color="#050505" face="arial"><span style="font-size: 18px\; white-space: pre-wrap\;">Artistic Director\, Alexander Zonjic\, International award-winning musician and producer will bring his years of experience and talent to make sure we have an amazing musical experience.</span></font><br />\n<span data-slate-fragment="JTdCJTIyb2JqZWN0JTIyJTNBJTIyZG9jdW1lbnQlMjIlMkMlMjJkYXRhJTIyJTNBJTdCJTdEJTJDJTIybm9kZXMlMjIlM0ElNUIlN0IlMjJvYmplY3QlMjIlM0ElMjJibG9jayUyMiUyQyUyMnR5cGUlMjIlM0ElMjJwYXJhZ3JhcGglMjIlMkMlMjJkYXRhJTIyJTNBJTdCJTdEJTJDJTIybm9kZXMlMjIlM0ElNUIlN0IlMjJvYmplY3QlMjIlM0ElMjJ0ZXh0JTIyJTJDJTIybGVhdmVzJTIyJTNBJTVCJTdCJTIyb2JqZWN0JTIyJTNBJTIybGVhZiUyMiUyQyUyMnRleHQlMjIlM0ElMjJMJUVGJUJCJUJGZWFybiUyMGFib3V0JTIwbG9jYWwlMjBub24lMjBwcm9maXRzJTIwYW5kJTIwc2hvcCUyMGZhbnRhc3RpYyUyMGFydCUyMGFzJTIwcGFydCUyMG9mJTIwdGhpcyUyMGZlc3RpdmFsLiUyMCUyMiUyQyUyMm1hcmtzJTIyJTNBJTVCJTVEJTdEJTVEJTdEJTVEJTdEJTVEJTdE" style=""><font color="#050505" face="arial"><span style="font-size: 18px\; white-space: pre\;">Learn about local nonprofits and shop fantastic art as part of this festival. </span></font></span><br />\n&nbsp\;</div>\n</div>\n\n<div class="x11i5rnm xat24cr x1mh8g0r x1vvkbs xtlvy1s x126k92a" style="margin: 0.5em 0px 0px\; white-space: pre-wrap\; overflow-wrap: break-word\; color: rgb(5\, 5\, 5)\;">\n<div dir="auto" style=""><font face="arial"><span style="font-size: 18px\;">Saturday\, June 24 line up:<br />\n2:00-3:00pm- The Detroit School of Rock and Pop Music with special guest Dave Weckl<br />\n3:30-4:30pm-Lin Rountree<br />\n5:00-6:15pm - Lindsey Webster<br />\n6:45-8:00pm Alexander Zonjic &amp\; Friends with James Lloyd</span></font></div>\n</div>\n
LOCATION:Centennial Commons Park 204 S. Troy C.C Park Royal Oak\, MI 48067
UID:e.2933.4105
SEQUENCE:3
DTSTAMP:20260423T220458Z
URL:http://royaloakchamber.smartcms.site/events/details/royal-oak-live-4105
END:VEVENT

END:VCALENDAR
