BEGIN:VCALENDAR
VERSION:2.0
PRODID:-//ChamberMaster//Event Calendar 2.0//EN
METHOD:PUBLISH
X-PUBLISHED-TTL:P3D
REFRESH-INTERVAL:P3D
CALSCALE:GREGORIAN
BEGIN:VEVENT
DTSTART:20241027T190000Z
DTEND:20241027T210000Z
X-MICROSOFT-CDO-ALLDAYEVENT:FALSE
SUMMARY:Royal Oak Concert Band Presents "Color Your World"
DESCRIPTION:Royal Oak\, Mich. October 27th\, 2024   The Royal Oak Concert Band (ROCB) presents "Color Your World" the first concert of its 2024-2025 season\, at 3 p.m. on Sunday\,October 27th at the Royal Oak Middle School Auditorium\, 709 N. Washington Ave.\, Royal Oak\, MI 48067.  The admission is $12 for adults\, $10 for seniors\, and children 12 and under are free. Tickets are available at the door or online at www.royaloakconcertband.org.\n\n\n\nDirected by Mr. Kevin R. Czarnik\, the ROCB is celebrating the start of its 61st season with a colorful kaleidoscope of music featuring the many hues of the concert band. The ROCB will explore colors through a wide variety of musical styles and composers\, from Gustav Holst to Henry Mancini\, Frank Ticheli\, Prince and the rock group Chicago. The concert will also feature our principal trombonist\, Gavin Moore\, performing a trombone solo with the concert band. Additionally\, the concert will include a jazzy set by the Woodward Avenue Jazz Orchestra\, directed by Mr. James Cann.  The 18 piece Woodward Avenue Jazz Orchestra performs a broad repertoire from swing through the modern jazz era. For more information and to purchase tickets\, please visit our website at www.royaloakconcertband.org.
X-ALT-DESC;FMTTYPE=text/html:<div><strong>Royal Oak\, Mich. October 27th\, 2024 &ndash\;&nbsp\;<em>The Royal Oak Concert Band (ROCB) presents &ldquo\;Color Your World&rdquo\; the first concert of its 2024-2025 season\, at 3 p.m. on Sunday\,October 27th at the Royal Oak Middle School Auditorium\, 709 N. Washington Ave.\, Royal Oak\, MI 48067.&nbsp\;&nbsp\;The admission is $12 for adults\, $10 for seniors\, and children 12 and under are free. Tickets are available at the door or online at www.royaloakconcertband.org.</em></strong></div>\n\n<div><br />\nDirected by Mr. Kevin R. Czarnik\, the ROCB is celebrating the start of its 61st season with a colorful kaleidoscope of music featuring the many hues of the concert band. The ROCB will explore colors through a wide variety of musical styles and composers\, from Gustav Holst to Henry Mancini\, Frank Ticheli\, Prince and the rock group Chicago. The concert will also feature our principal trombonist\, Gavin Moore\, performing a trombone solo with the concert band. Additionally\, the concert will include a jazzy set by the Woodward Avenue Jazz Orchestra\, directed by Mr. James Cann.&nbsp\;&nbsp\;The 18 piece Woodward Avenue Jazz Orchestra performs a broad repertoire from swing through the modern jazz era.&nbsp\;<strong>For more information and to purchase tickets\, please visit our website at&nbsp\;<a href="http://www.royaloakconcertband.org/" id="yiv6983424798ydp9f55541byiv5100527499ydp4b4b8d8dyiv8251809886ydpe0a20b00yiv6156256560ydp6e27c41byiv7606084119ydp52968b37yiv2324533709ydp9f79f6a3yiv2435830131ydpec271bfdyiv9484866984ydp3d160626yiv8005519246ydp7bbddd4fyiv1572066720ydp155cd862yiv7250560622ydp73c2751ayiv8095357329ydp34afc7fcyiv0257401909ydpd4ecbcyiv8458204269ydp11136a88yiv8493016973ydpdf0500d0yiv5268663208ydpa59e870dyiv5819181884ydp4bf34ed6yiv6303516927ydpfe035e6dyiv4515703580ydp6eb91368yiv7440577085ydpb5e3ec64yiv8771387469ydp832df746yiv9592466758ydpe5c92456yiv8319379629ydpc36861b3yiv6501187484ydpf584a889yiv9552189721ydp5f50f8e0yiv7601636742ydp23a54efyiv9537059497ydp7b80bed2yiv9867645878yui_3_16_0_ym19_1_1508116057983_77401" rel="nofollow noopener noreferrer" style="color: rgb(25\, 106\, 212)\; outline: none !important\;" target="_blank">www.royaloakconcertband.org</a>.&nbsp\;&nbsp\;</strong></div>\n
LOCATION:Royal Oak Middle School in the Dondero Auditorium
UID:e.2933.4577
SEQUENCE:3
DTSTAMP:20260423T075748Z
URL:http://royaloakchamber.smartcms.site/events/details/royal-oak-concert-band-presents-color-your-world-4577
END:VEVENT

END:VCALENDAR
