BEGIN:VCALENDAR
VERSION:2.0
PRODID:-//ChamberMaster//Event Calendar 2.0//EN
METHOD:PUBLISH
X-PUBLISHED-TTL:P3D
REFRESH-INTERVAL:P3D
CALSCALE:GREGORIAN
BEGIN:VEVENT
DTSTART:20240313T213000Z
DTEND:20240313T233000Z
X-MICROSOFT-CDO-ALLDAYEVENT:FALSE
SUMMARY:ROYAL Networking Event
DESCRIPTION:Join our (ROYAL) Royal Oak Young Ambitious Leaders (ages 21-40) for an evening of networking! Meet the CEO of Citizens State Bank\, Dan Fischer and local young leaders. Refreshments will be served. Please register\, we have limited space!
X-ALT-DESC;FMTTYPE=text/html:<br />\nJoin our (ROYAL) Royal Oak Young Ambitious Leaders (ages 21-40) for an evening of networking! Meet the CEO of Citizens State Bank\, Dan Fischer and local young leaders. Refreshments will be served. Please register\, we have limited space!&nbsp\;
LOCATION:Citizens State Bank 32500 Woodward Ave. Royal Oak\, MI 48073
UID:e.2933.4327
SEQUENCE:3
DTSTAMP:20260422T205522Z
URL:http://royaloakchamber.smartcms.site/events/details/royal-networking-event-4327
END:VEVENT

END:VCALENDAR
