BEGIN:VCALENDAR
VERSION:2.0
PRODID:-//ChamberMaster//Event Calendar 2.0//EN
METHOD:PUBLISH
X-PUBLISHED-TTL:P3D
REFRESH-INTERVAL:P3D
CALSCALE:GREGORIAN
BEGIN:VEVENT
DTSTART:20221110T220000Z
DTEND:20221111T000000Z
X-MICROSOFT-CDO-ALLDAYEVENT:FALSE
SUMMARY:ROYAL Networking at RPM
DESCRIPTION:Networking at RPM with other young professionals at our November event.
X-ALT-DESC;FMTTYPE=text/html:Networking at RPM with other young professionals at our November event.&nbsp\;
LOCATION:RPM Freight Systems 301 W. Fourth St. Ste. 300 Royal Oak 48067 Parking: on the street and at Lafayette parking structure\, South of Fourth St. on Lafayette Ave.\, just past Baker College.
UID:e.2933.4043
SEQUENCE:3
DTSTAMP:20260424T084124Z
URL:http://royaloakchamber.smartcms.site/events/details/royal-networking-at-rpm-4043
END:VEVENT

END:VCALENDAR
