BEGIN:VCALENDAR
VERSION:2.0
PRODID:-//ChamberMaster//Event Calendar 2.0//EN
METHOD:PUBLISH
X-PUBLISHED-TTL:P3D
REFRESH-INTERVAL:P3D
CALSCALE:GREGORIAN
BEGIN:VEVENT
DTSTART:20230809T210000Z
DTEND:20230809T230000Z
X-MICROSOFT-CDO-ALLDAYEVENT:FALSE
SUMMARY:ROYAL Collab Networking with Troy
DESCRIPTION:Join our ROYAL (Royal Oak Chamber Young Ambitious Leaders) networking event on August 9\, 5-7pm @Condado Tacos \n\nJoint event with the Troy Chamber. Register HERE.\n\nComplimentary appetizers served. Cash Bar.
X-ALT-DESC;FMTTYPE=text/html:<p><span style="font-size:18px\;"><b><span style="font-family: Arial\, sans-serif\; color: black\;">Join our ROYAL (Royal Oak Chamber Young Ambitious Leaders) networking event on August 9\, 5-7pm @Condado Tacos </span></b><br />\n<span style="font-family: Arial\, sans-serif\; color: black\;">Joint event with the Troy Chamber. </span><span style="font-family: Arial\, sans-serif\; color: rgb(64\, 63\, 66)\;">Register </span><span style="font-family: Arial\, sans-serif\; color: rgb(64\, 63\, 66)\;"><a href="https://r20.rs6.net/tn.jsp?f=0014Zg6lxZY63ZfYLYcmzCzSTV-Fmt-VIKT5jgJhaKVxMO5E_TUz9i2pH5cJBSMfc3S-XAhj9U9h4E437aCKrBRwanuBQsTsLRCYAeYelO6t-1PyKYUNO_67rjikOQRf6z2gw16aOmYQXIsG5h1TuwB4fJtZ6KmXA-90GLI50WbwogkRcKxrvsABfnOYODFfpiYSw-tr6UNBeoPzdRPh6ar7Ipah6SbbRgeZI87rlSWjgA=&amp\;c=COMDPp-7-IyMd51OnDJFLE3i5_4Mj7X6fS5GEi-CfPUBEXii7ma0Rw==&amp\;ch=jpDfkUaLN2KWSft21iMiw5uiwadNg-X5oDE98N25h06HWG-_yjW2nQ==" target="_blank"><span style="color: rgb(227\, 127\, 77)\;">HERE.</span></a><br />\nComplimentary appetizers served. Cash Bar.&nbsp\;</span></span><span style="font-size:9.0pt\;\nfont-family:&quot\;Arial&quot\;\,sans-serif\;color:#403F42"><o:p></o:p></span></p>\n
LOCATION:Condado Tacos 724 W. Big Beaver Rd. Troy\, MI
UID:e.2933.4161
SEQUENCE:3
DTSTAMP:20260423T184855Z
URL:http://royaloakchamber.smartcms.site/events/details/royal-collab-networking-with-troy-4161
END:VEVENT

END:VCALENDAR
