BEGIN:VCALENDAR
VERSION:2.0
PRODID:-//ChamberMaster//Event Calendar 2.0//EN
METHOD:PUBLISH
X-PUBLISHED-TTL:P3D
REFRESH-INTERVAL:P3D
CALSCALE:GREGORIAN
BEGIN:VEVENT
DTSTART:20220524T230000Z
DTEND:20220525T010000Z
X-MICROSOFT-CDO-ALLDAYEVENT:FALSE
SUMMARY:ROYAL @ Bowlero Event
DESCRIPTION:Join ROYAL (Royal Oak Young Ambitious Leaders\, ages 21-40)  for an evening of networking\, bowling & karaoke! If your company is a member and you've never attended an event. Now is your chance to meet other young professionals!
X-ALT-DESC;FMTTYPE=text/html:Join ROYAL (Royal Oak Young Ambitious Leaders\, ages 21-40)&nbsp\; for an evening of networking\, bowling &amp\; karaoke! If your company is a member and you&#39\;ve never attended an event. Now is your chance to meet other young professionals!&nbsp\;
LOCATION:Bowlero Lanes & Lounge 4209 Coolidge Hwy. Royal Oak\, MI 48073
UID:e.2933.3989
SEQUENCE:3
DTSTAMP:20260424T094340Z
URL:http://royaloakchamber.smartcms.site/events/details/royal-bowlero-event-3989
END:VEVENT

END:VCALENDAR
