BEGIN:VCALENDAR
VERSION:2.0
PRODID:-//ChamberMaster//Event Calendar 2.0//EN
METHOD:PUBLISH
X-PUBLISHED-TTL:P3D
REFRESH-INTERVAL:P3D
CALSCALE:GREGORIAN
BEGIN:VEVENT
DTSTART:20230909T140000Z
DTEND:20230909T200000Z
X-MICROSOFT-CDO-ALLDAYEVENT:FALSE
SUMMARY:ROWC Rummage Sale
DESCRIPTION:ROWC is hosting a HUGE Rummage Sale at the clubhouse! Get great deals on household goods\, antiques\, collectibles\, clothes\, jewelry\, toys\, furniture & much more.
X-ALT-DESC;FMTTYPE=text/html:ROWC is hosting a HUGE Rummage Sale at the clubhouse! Get great deals on household goods\, antiques\, collectibles\, clothes\, jewelry\, toys\, furniture &amp\; much more.
LOCATION:404 S Pleasant St. Royal Oak\, MI 48067
UID:e.2933.4164
SEQUENCE:3
DTSTAMP:20260422T224040Z
URL:http://royaloakchamber.smartcms.site/events/details/rowc-rummage-sale-4164
END:VEVENT

END:VCALENDAR
