BEGIN:VCALENDAR
VERSION:2.0
PRODID:-//ChamberMaster//Event Calendar 2.0//EN
METHOD:PUBLISH
X-PUBLISHED-TTL:P3D
REFRESH-INTERVAL:P3D
CALSCALE:GREGORIAN
BEGIN:VEVENT
DTSTART:20230823T220000Z
DTEND:20230824T000000Z
X-MICROSOFT-CDO-ALLDAYEVENT:FALSE
SUMMARY:ROWC Meet & Greet
DESCRIPTION:The Royal Oak Woman's Club is hosting their annual Meet & Greet for prospective new members on August 23rd 6-8pm at the Historic ROWC Clubhouse. Snacks and beverages will be provided. Come tour the beautiful clubhouse and find out what the Royal Oak Woman's Club is all about!
X-ALT-DESC;FMTTYPE=text/html:The Royal Oak Woman&#39\;s Club is hosting their annual Meet &amp\; Greet for prospective new members on August 23rd 6-8pm at the Historic ROWC Clubhouse. Snacks and beverages will be provided. Come tour the beautiful clubhouse and find out what the Royal Oak Woman&#39\;s Club is all about!
LOCATION:404 S. Pleasant St. Royal Oak\, MI 48067
UID:e.2933.4163
SEQUENCE:3
DTSTAMP:20260423T202920Z
URL:http://royaloakchamber.smartcms.site/events/details/rowc-meet-greet-4163
END:VEVENT

END:VCALENDAR
