BEGIN:VCALENDAR
VERSION:2.0
PRODID:-//ChamberMaster//Event Calendar 2.0//EN
METHOD:PUBLISH
X-PUBLISHED-TTL:P3D
REFRESH-INTERVAL:P3D
CALSCALE:GREGORIAN
BEGIN:VEVENT
DTSTART:20231124T140000Z
DTEND:20240105T170000Z
X-MICROSOFT-CDO-ALLDAYEVENT:FALSE
SUMMARY:ROCC & Glow Holiday Decorating Contest
DESCRIPTION:ROCC & Glow is a Holiday Decorating Contest engaging the residence and business communities of Royal Oak!  Proceeds will benefit The Royal Oak Scholarship Fund which awards educational scholarships every year to High School Seniors who attend a Royal Oak High School and have a desire to be an entrepreneur in business.   Voting runs November 24-January 5. To vote\, click on the orange register tab to the right\, once you log in as a member or as a guest you will be able use the pull down to vote and pay with a credit card!\n\n\n\nAll photos must be submitted by December 22.  Send your photo to Christine\, christinep@royaloakchamber.com.\n\n\n\nTo PARTICIPATE:\n\nRegister your House or Business Name and Click on the orange "Register" button.  After registering your name\, use the drop down and "Choose One" from the following: \n\n\n\n$25.00 to register your Royal Oak House.\n\n$50.00 to register your Royal Oak Business (INSIDE OR OUTSIDE)\n\n*Be sure to List Your Residence or Business Address in the Comment Section*\n\n\n\nTO VOTE:\n\nVotes can be placed in $5 increments. Find your favorite house or business under the list of participants. The address of the house/business will be listed. Greatest number of votes for each category determines the Grand Prize Winner! \n\n\n\nIf you would like to place multiple votes at a time\, choose the "Additional Votes" option and you will be able to select the amount you would like to donate in increments of $5.00.\n\n\n\n**NOTE**\n\nBy registering your house or business\, you agree to have your address posted to the public for voting.\n\n\n\nYard signs will be available for placement once registration is complete and your lights are up! The signs will include a QR code informing citizens on how to vote.  The winner for each category will be announced on January 8\, 2024!  \n\n\n\nTHANK YOU for your generous support!
X-ALT-DESC;FMTTYPE=text/html:<span style="font-size: 16px\;">ROCC &amp\; Glow is a Holiday Decorating Contest engaging the residence and business communities of Royal Oak!&nbsp\; Proceeds will benefit </span><strong style="font-size: 16px\;">The Royal Oak Scholarship Fund</strong><span style="font-size: 16px\;"> which awards educational scholarships every year to High School Seniors who attend a Royal Oak High School and have a desire to be an entrepreneur in business.&nbsp\;&nbsp\; Voting runs November 24-January 5. <span style="color:#FF0000\;">To vote\, click on the orange register tab to the right\, once you log in as a member or as a guest you will be able use the pull down to vote and pay with a credit card!</span><br />\n<br />\nAll photos must be submitted by December 22.&nbsp\; Send your photo to Christine\, christinep@royaloakchamber.com.</span><br />\n<br />\n<strong style="font-size: 16px\;">To PARTICIPATE:</strong><br />\n<span style="font-size: 16px\;">Register your House or Business Name and Click on the orange &quot\;Register&quot\; button.&nbsp\; After registering your name\, use the drop down and &quot\;Choose One&quot\; from the following:&nbsp\;</span><br />\n<br />\n<span style="font-size: 16px\;">$25.00 to register your Royal Oak House.</span><br />\n<span style="font-size: 16px\;">$50.00 to register your Royal Oak Business (INSIDE OR OUTSIDE)</span><br />\n<em style="font-size: 16px\;"><strong>*Be sure to List Your Residence or Business Address in the Comment Section*</strong></em><br />\n<br />\n<strong style="font-size: 16px\;">TO VOTE:</strong><br />\n<span style="font-size: 16px\;">Votes can be placed in $5 increments. Find your favorite house or business under the list of participants. The address of the house/business will be listed. Greatest number of votes for each category determines the Grand Prize Winner!&nbsp\;</span><br />\n<br />\n<span style="font-size: 16px\;">If you would like to place multiple votes at a time\, choose the &quot\;Additional Votes&quot\; option and you will be able to select the amount you would like to donate in increments of $5.00.</span><br />\n<br />\n<span style="font-size: 16px\;">**NOTE**</span><br />\n<span style="font-size: 16px\;">By registering your house or business\, you agree to have your address posted to the public for voting.</span><br />\n<br />\n<span style="font-size: 16px\;">Yard signs will be available for placement once registration is complete and your lights are up! The signs will include a QR code informing citizens on how to vote.&nbsp\; The winner for each category will be announced on January 8\, 2024!&nbsp\;&nbsp\;</span><br />\n<br />\n<span style="font-size: 16px\;">THANK YOU for your generous support!</span><br />\n<br />\n&nbsp\;
LOCATION:
UID:e.2933.4185
SEQUENCE:3
DTSTAMP:20260422T123915Z
URL:http://royaloakchamber.smartcms.site/events/details/rocc-glow-holiday-decorating-contest-4185
END:VEVENT

END:VCALENDAR
