BEGIN:VCALENDAR
VERSION:2.0
PRODID:-//ChamberMaster//Event Calendar 2.0//EN
METHOD:PUBLISH
X-PUBLISHED-TTL:P3D
REFRESH-INTERVAL:P3D
CALSCALE:GREGORIAN
BEGIN:VEVENT
DTSTART:20200716T120000Z
DTEND:20200716T130000Z
X-MICROSOFT-CDO-ALLDAYEVENT:FALSE
SUMMARY:ROYAL (Royal Oak Ambitious Young Leaders) Meeting
DESCRIPTION:ROYAL\, (aka the Royal Oak Ambitious Young Leaders) \n\n\nWe are a young professionals group  (ages 21-40) dedicated to the development of the Royal Oak Chamber's next generation of leaders. ROYAL provides personal and professional development\, community engagement and networking opportunities for our members\, forming lifelong professional relationships and friendships.\n\n \n\nWe meet the 1st & 3rd Thursday of each month.
X-ALT-DESC;FMTTYPE=text/html:<span _mce_style="color: #98943f\;" style="color: #98943f\;"><strong>ROYAL</strong></span>\, <span style="font-size:12px\;">(aka the Royal Oak Ambitious Young Leaders)&nbsp\;</span>\n<div><br />\nWe are a young professionals group &nbsp\;(ages 21-40) dedicated to the development of the Royal Oak Chamber&#39\;s next generation of leaders. ROYAL provides personal and professional development\, community engagement and networking opportunities for our members\, forming lifelong professional relationships and friendships.<br />\n&nbsp\;<br />\nWe meet the 1st &amp\; 3rd Thursday&nbsp\;of each month.&nbsp\;</div>\n
LOCATION:Waterworks Park 606 Lloyd Ave. Royal Oak\, 48073 Meet on the east side of the park along Marywood Drive. Look for the green tent.
UID:e.2933.1536
SEQUENCE:3
DTSTAMP:20260425T234703Z
URL:http://royaloakchamber.smartcms.site/events/details/roam-royal-oak-ambitious-millennials-meeting-07-16-2020-1536
END:VEVENT

END:VCALENDAR
