BEGIN:VCALENDAR
VERSION:2.0
PRODID:-//ChamberMaster//Event Calendar 2.0//EN
METHOD:PUBLISH
X-PUBLISHED-TTL:P3D
REFRESH-INTERVAL:P3D
CALSCALE:GREGORIAN
BEGIN:VEVENT
DTSTART:20230105T170000Z
DTEND:20230105T180000Z
X-MICROSOFT-CDO-ALLDAYEVENT:FALSE
SUMMARY:Ribbon Cutting Your Personal Jeweler
DESCRIPTION:Join us for a Ribbon Cutting Ceremony celebrating the new location for Your Personal Jeweler.
X-ALT-DESC;FMTTYPE=text/html:Join us for a Ribbon Cutting Ceremony celebrating the new location for <em>Your Personal Jeweler.&nbsp\;</em>
LOCATION:Your Personal Jeweler 302 S. Washington Ave. Royal Oak\, MI
UID:e.2933.4060
SEQUENCE:3
DTSTAMP:20260424T114956Z
URL:http://royaloakchamber.smartcms.site/events/details/ribbon-cutting-your-personal-jeweler-4060
END:VEVENT

END:VCALENDAR
