BEGIN:VCALENDAR
VERSION:2.0
PRODID:-//ChamberMaster//Event Calendar 2.0//EN
METHOD:PUBLISH
X-PUBLISHED-TTL:P3D
REFRESH-INTERVAL:P3D
CALSCALE:GREGORIAN
BEGIN:VEVENT
DTSTART:20220210T170000Z
DTEND:20220210T173000Z
X-MICROSOFT-CDO-ALLDAYEVENT:FALSE
SUMMARY:Ribbon Cutting Tri-Covery Massage & Flexibility
DESCRIPTION:Join us in welcoming our new member Tri-Covery Massage & Flexibility with a Ribbon Cutting Ceremony!
X-ALT-DESC;FMTTYPE=text/html:<br />\n<span style="font-size:16px\;">Join us in welcoming our new member&nbsp\;Tri-Covery Massage &amp\; Flexibility with a Ribbon Cutting Ceremony!&nbsp\;</span>
LOCATION:Tri-Covery Massage & Flexibility 2605 W. Fourteen Mile Rd.\, ste 100 Royal Oak\, MI 48073
UID:e.2933.3873
SEQUENCE:3
DTSTAMP:20260424T132455Z
URL:http://royaloakchamber.smartcms.site/events/details/ribbon-cutting-tri-covery-massage-flexibility-3873
END:VEVENT

END:VCALENDAR
