BEGIN:VCALENDAR
VERSION:2.0
PRODID:-//ChamberMaster//Event Calendar 2.0//EN
METHOD:PUBLISH
X-PUBLISHED-TTL:P3D
REFRESH-INTERVAL:P3D
CALSCALE:GREGORIAN
BEGIN:VEVENT
DTSTART:20240828T210000Z
DTEND:20240828T213000Z
X-MICROSOFT-CDO-ALLDAYEVENT:FALSE
SUMMARY:Ribbon Cutting Taylor & Colt
DESCRIPTION:Please join us in celebrating Chamber member Taylor & Colt with a Ribbon Cutting Ceremony at 5:00pm. Please arrive at 4:45pm.
X-ALT-DESC;FMTTYPE=text/html:Please join us in celebrating Chamber member Taylor &amp\; Colt with a Ribbon Cutting Ceremony at 5:00pm. Please arrive at 4:45pm.&nbsp\;
LOCATION:Taylor & Colt 111 W. Fourth St. Royal Oak\, MI 48067
UID:e.2933.4409
SEQUENCE:3
DTSTAMP:20260423T041304Z
URL:http://royaloakchamber.smartcms.site/events/details/ribbon-cutting-taylor-colt-4409
END:VEVENT

END:VCALENDAR
