BEGIN:VCALENDAR
VERSION:2.0
PRODID:-//ChamberMaster//Event Calendar 2.0//EN
METHOD:PUBLISH
X-PUBLISHED-TTL:P3D
REFRESH-INTERVAL:P3D
CALSCALE:GREGORIAN
BEGIN:VEVENT
DTSTART:20230602T160000Z
DTEND:20230602T163000Z
X-MICROSOFT-CDO-ALLDAYEVENT:FALSE
SUMMARY:Ribbon Cutting Home Turf Gym
DESCRIPTION:Please join us in celebrating new ROCC Member Home Turf Gym with a Ribbon Cutting Ceremony. We encourage all of our members to come and support!
X-ALT-DESC;FMTTYPE=text/html:Please join us in celebrating new ROCC Member <strong><a href="http://www.hometurfgym.com">Home Turf Gym</a> </strong>with a Ribbon Cutting Ceremony. We encourage all of our members to come and support!&nbsp\;
LOCATION:Home Turf Gym 412 E. Fourth St. Royal Oak\, MI 48067
UID:e.2933.4137
SEQUENCE:3
DTSTAMP:20260423T222717Z
URL:http://royaloakchamber.smartcms.site/events/details/ribbon-cutting-home-turf-gym-4137
END:VEVENT

END:VCALENDAR
