BEGIN:VCALENDAR
VERSION:2.0
PRODID:-//ChamberMaster//Event Calendar 2.0//EN
METHOD:PUBLISH
X-PUBLISHED-TTL:P3D
REFRESH-INTERVAL:P3D
CALSCALE:GREGORIAN
BEGIN:VEVENT
DTSTART:20211202T220000Z
DTEND:20211202T223000Z
X-MICROSOFT-CDO-ALLDAYEVENT:FALSE
SUMMARY:Ribbon Cutting Exo Freight
DESCRIPTION:Please join us in welcoming Exo Freight with a Ribbon Cutting Ceremony!
X-ALT-DESC;FMTTYPE=text/html:Please join us in welcoming Exo Freight with a Ribbon Cutting Ceremony!
LOCATION:Exo Freight 360 N. Main St. Ste. 410 Royal Oak\, MI 48067
UID:e.2933.3859
SEQUENCE:3
DTSTAMP:20260424T165749Z
URL:http://royaloakchamber.smartcms.site/events/details/ribbon-cutting-exo-freight-3859
END:VEVENT

END:VCALENDAR
