BEGIN:VCALENDAR
VERSION:2.0
PRODID:-//ChamberMaster//Event Calendar 2.0//EN
METHOD:PUBLISH
X-PUBLISHED-TTL:P3D
REFRESH-INTERVAL:P3D
CALSCALE:GREGORIAN
BEGIN:VEVENT
DTSTART:20211028T160000Z
DTEND:20211028T163000Z
X-MICROSOFT-CDO-ALLDAYEVENT:FALSE
SUMMARY:Ribbon Cutting -Citizens State Bank
DESCRIPTION:Please join us in welcoming Citizens State Bank to the ROCC! Ribbon Cutting Ceremony to begin at 12:00PM.
X-ALT-DESC;FMTTYPE=text/html:<span style="color: rgb(5\, 5\, 5)\; font-family: &quot\;Segoe UI Historic&quot\;\, &quot\;Segoe UI&quot\;\, Helvetica\, Arial\, sans-serif\; font-size: 15px\;">Please join us in welcoming Citizens State Bank to the ROCC! Ribbon Cutting Ceremony to begin at 12:00PM.</span>
LOCATION:Citizens State Bank 32500 Woodward Ave. Royal Oak\, MI 48073
UID:e.2933.3855
SEQUENCE:3
DTSTAMP:20260424T203747Z
URL:http://royaloakchamber.smartcms.site/events/details/ribbon-cutting-citizens-state-bank-3855
END:VEVENT

END:VCALENDAR
