BEGIN:VCALENDAR
VERSION:2.0
PRODID:-//ChamberMaster//Event Calendar 2.0//EN
METHOD:PUBLISH
X-PUBLISHED-TTL:P3D
REFRESH-INTERVAL:P3D
CALSCALE:GREGORIAN
BEGIN:VEVENT
DTSTART:20241122T190000Z
DTEND:20241122T193000Z
X-MICROSOFT-CDO-ALLDAYEVENT:FALSE
SUMMARY:Ribbon Cutting Ceremony\, Together Women's Health Imaging Center
DESCRIPTION:Please join us in welcoming new ROCC member\, Together Women's Health Imaging Center! Ribbon Cutting Ceremony will be at 2pm. Refreshments will be served.
X-ALT-DESC;FMTTYPE=text/html:<br />\nPlease join us in welcoming new ROCC member\, Together Women&#39\;s Health Imaging Center! Ribbon Cutting Ceremony will be at 2pm. Refreshments will be served.&nbsp\;
LOCATION:Together Women's Health Imaging Center 336 N. Main St. Royal Oak\, MI 48067
UID:e.2933.4628
SEQUENCE:3
DTSTAMP:20260423T143723Z
URL:http://royaloakchamber.smartcms.site/events/details/ribbon-cutting-ceremony-together-women-s-health-imaging-center-4628
END:VEVENT

END:VCALENDAR
