BEGIN:VCALENDAR
VERSION:2.0
PRODID:-//ChamberMaster//Event Calendar 2.0//EN
METHOD:PUBLISH
X-PUBLISHED-TTL:P3D
REFRESH-INTERVAL:P3D
CALSCALE:GREGORIAN
BEGIN:VEVENT
DTSTART:20240801T160000Z
DTEND:20240801T163000Z
X-MICROSOFT-CDO-ALLDAYEVENT:FALSE
SUMMARY:Ribbon Cutting Ceremony @ The Modern Vegan
DESCRIPTION:Please join us for a Ribbon Cutting Ceremony in honor of The Modern Vegan opening in Royal Oak!
X-ALT-DESC;FMTTYPE=text/html:<span style="font-family: Arial\, Verdana\, Helvetica\, sans-serif\; white-space-collapse: preserve\; font-size: 16px\; color: rgb(192\, 62\, 48)\;">Please join us for a Ribbon Cutting Ceremony</span><span style="font-family: Arial\, Verdana\, Helvetica\, sans-serif\; white-space-collapse: preserve\; font-size: 16px\;"> in honor of&nbsp\;The Modern Vegan</span><span style="color: rgb(64\, 63\, 66)\; font-family: Arial\, Verdana\, Helvetica\, sans-serif\; font-size: 12px\; white-space-collapse: preserve\;"> </span><span style="font-family: Arial\, Verdana\, Helvetica\, sans-serif\; white-space-collapse: preserve\; font-size: 16px\;">opening in Royal Oak!</span>
LOCATION:The Modern Vegan 304 N. Main St. Royal Oak\, MI 48067
UID:e.2933.4398
SEQUENCE:3
DTSTAMP:20260423T041301Z
URL:http://royaloakchamber.smartcms.site/events/details/ribbon-cutting-ceremony-the-modern-vegan-4398
END:VEVENT

END:VCALENDAR
