BEGIN:VCALENDAR
VERSION:2.0
PRODID:-//ChamberMaster//Event Calendar 2.0//EN
METHOD:PUBLISH
X-PUBLISHED-TTL:P3D
REFRESH-INTERVAL:P3D
CALSCALE:GREGORIAN
BEGIN:VEVENT
DTSTART:20241111T160000Z
DTEND:20241111T163000Z
X-MICROSOFT-CDO-ALLDAYEVENT:FALSE
SUMMARY:Ribbon Cutting Ceremony Sunlight Nail Bar
DESCRIPTION:Please join us in celebrating new member\, Sunlight Nail Bar with a Ribbon Cutting Ceremony!  Champagne and light appetizers will be provided.
X-ALT-DESC;FMTTYPE=text/html:Please join us in celebrating new member\, Sunlight Nail Bar with a Ribbon Cutting Ceremony!&nbsp\; Champagne and light appetizers will be provided.
LOCATION:Sunlight Nail Bar 309 S. Troy St. Royal Oak\, MI 48067
UID:e.2933.4585
SEQUENCE:3
DTSTAMP:20260423T161002Z
URL:http://royaloakchamber.smartcms.site/events/details/ribbon-cutting-ceremony-sunlight-nail-bar-4585
END:VEVENT

END:VCALENDAR
