BEGIN:VCALENDAR
VERSION:2.0
PRODID:-//ChamberMaster//Event Calendar 2.0//EN
METHOD:PUBLISH
X-PUBLISHED-TTL:P3D
REFRESH-INTERVAL:P3D
CALSCALE:GREGORIAN
BEGIN:VEVENT
DTSTART:20220222T170000Z
DTEND:20220222T173000Z
X-MICROSOFT-CDO-ALLDAYEVENT:FALSE
SUMMARY:Ribbon Cutting Ceremony -South Oakland Family YMCA
DESCRIPTION:Please join us in congratulating South Oakland Family YMCA on their major renovations\, with a Ribbon Cutting Ceremony!
X-ALT-DESC;FMTTYPE=text/html:Please join us in congratulating South Oakland Family YMCA on their major renovations\, with a Ribbon Cutting Ceremony!&nbsp\;
LOCATION:South Oakland Family YMCA 1016 W. Eleven Mile Rd. Royal Oak\, MI 48067
UID:e.2933.3885
SEQUENCE:3
DTSTAMP:20260424T132539Z
URL:http://royaloakchamber.smartcms.site/events/details/ribbon-cutting-ceremony-south-oakland-family-ymca-3885
END:VEVENT

END:VCALENDAR
