BEGIN:VCALENDAR
VERSION:2.0
PRODID:-//ChamberMaster//Event Calendar 2.0//EN
METHOD:PUBLISH
X-PUBLISHED-TTL:P3D
REFRESH-INTERVAL:P3D
CALSCALE:GREGORIAN
BEGIN:VEVENT
DTSTART:20231211T170000Z
DTEND:20231211T173000Z
X-MICROSOFT-CDO-ALLDAYEVENT:FALSE
SUMMARY:Ribbon Cutting Ceremony Seven Sundays Coffee
DESCRIPTION:Attention Members! Please join us in welcoming Seven Sundays Coffee to downtown Royal Oak and the Royal Oak Chamber of Commerce! Ribbon Cutting Ceremony to be held a 12:00pm\, please arrive at 11:45am.
X-ALT-DESC;FMTTYPE=text/html:<br />\nAttention Members! Please join us in welcoming Seven Sundays Coffee to downtown Royal Oak and the Royal Oak Chamber of Commerce! Ribbon Cutting Ceremony to be held a 12:00pm\, please arrive at 11:45am.&nbsp\;
LOCATION:Seven Sundays Coffee 225 S. Main St. Royal Oak\, MI 48067
UID:e.2933.4214
SEQUENCE:3
DTSTAMP:20260422T161520Z
URL:http://royaloakchamber.smartcms.site/events/details/ribbon-cutting-ceremony-seven-sundays-coffee-4214
END:VEVENT

END:VCALENDAR
