BEGIN:VCALENDAR
VERSION:2.0
PRODID:-//ChamberMaster//Event Calendar 2.0//EN
METHOD:PUBLISH
X-PUBLISHED-TTL:P3D
REFRESH-INTERVAL:P3D
CALSCALE:GREGORIAN
BEGIN:VEVENT
DTSTART:20240712T160000Z
DTEND:20240712T163000Z
X-MICROSOFT-CDO-ALLDAYEVENT:FALSE
SUMMARY:Ribbon Cutting Ceremony Royal Treatment Cannabis Dispensary
DESCRIPTION:Please join us in welcoming Royal Treatment Cannabis Dispensary to the Royal Oak Chamber with a Ribbon Cutting Ceremony!
X-ALT-DESC;FMTTYPE=text/html:Please join us in welcoming Royal Treatment Cannabis Dispensary to the Royal Oak Chamber with a Ribbon Cutting Ceremony!&nbsp\;
LOCATION:Royal Treatment Cannabis Dispensary 420 E. Harrison Ave. Royal Oak\, MI 48067
UID:e.2933.4385
SEQUENCE:3
DTSTAMP:20260423T022751Z
URL:http://royaloakchamber.smartcms.site/events/details/ribbon-cutting-ceremony-royal-treatment-cannabis-dispensary-4385
END:VEVENT

END:VCALENDAR
