BEGIN:VCALENDAR
VERSION:2.0
PRODID:-//ChamberMaster//Event Calendar 2.0//EN
METHOD:PUBLISH
X-PUBLISHED-TTL:P3D
REFRESH-INTERVAL:P3D
CALSCALE:GREGORIAN
BEGIN:VEVENT
DTSTART:20231130T170000Z
DTEND:20231130T173000Z
X-MICROSOFT-CDO-ALLDAYEVENT:FALSE
SUMMARY:Ribbon Cutting Ceremony North End Taproom
DESCRIPTION:Please join us in supporting a new ROCC member and business in downtown Royal Oak\, North End Taproom! We will have a Ribbon Cutting Ceremony on Thursday\, November 30 at 12:00pm. Please arrive by 11:45am.
X-ALT-DESC;FMTTYPE=text/html:Please join us in supporting a new ROCC member and business in downtown Royal Oak\, North End Taproom! We will have a Ribbon Cutting Ceremony on Thursday\, November 30 at 12:00pm. Please arrive by 11:45am.&nbsp\;
LOCATION:North End Taproom 111 S. Main St. Royal Oak\, MI 48067
UID:e.2933.4208
SEQUENCE:3
DTSTAMP:20260422T173259Z
URL:http://royaloakchamber.smartcms.site/events/details/ribbon-cutting-ceremony-north-end-taproom-4208
END:VEVENT

END:VCALENDAR
