BEGIN:VCALENDAR
VERSION:2.0
PRODID:-//ChamberMaster//Event Calendar 2.0//EN
METHOD:PUBLISH
X-PUBLISHED-TTL:P3D
REFRESH-INTERVAL:P3D
CALSCALE:GREGORIAN
BEGIN:VEVENT
DTSTART:20220520T203000Z
DTEND:20220520T210000Z
X-MICROSOFT-CDO-ALLDAYEVENT:FALSE
SUMMARY:Ribbon Cutting Ceremony -Metro-Strength Performance Rehab
DESCRIPTION:Please join us in celebrating the Grand Opening of Metro-Strength Performance Rehab\,with a ROCC Ribbon Cutting Ceremony!
X-ALT-DESC;FMTTYPE=text/html:Please join us in celebrating the Grand Opening of Metro-Strength Performance Rehab\,with a ROCC Ribbon Cutting Ceremony!&nbsp\;
LOCATION:1325 E. 11 Mile Rd. Royal Oak\, MI 48067
UID:e.2933.3987
SEQUENCE:3
DTSTAMP:20260424T094500Z
URL:http://royaloakchamber.smartcms.site/events/details/ribbon-cutting-ceremony-metro-strength-performance-rehab-3987
END:VEVENT

END:VCALENDAR
