BEGIN:VCALENDAR
VERSION:2.0
PRODID:-//ChamberMaster//Event Calendar 2.0//EN
METHOD:PUBLISH
X-PUBLISHED-TTL:P3D
REFRESH-INTERVAL:P3D
CALSCALE:GREGORIAN
BEGIN:VEVENT
DTSTART:20230210T170000Z
DTEND:20230210T180000Z
X-MICROSOFT-CDO-ALLDAYEVENT:FALSE
SUMMARY:Ribbon Cutting Ceremony HopCat
DESCRIPTION:Please join us in welcoming HopCat back to Royal Oak in their new location! HopCat is generously providing light appetizers and one draft option per Royal Oak Chamber guest: beer\, cider or draft cocktail.
X-ALT-DESC;FMTTYPE=text/html:Please join us in welcoming HopCat back to Royal Oak in their new location! HopCat is generously providing light appetizers and one draft option per Royal Oak Chamber guest: beer\, cider or draft cocktail<font color="#000000"><span style="font-size: 16px\;">.&nbsp\;</span></font>
LOCATION:HopCat 430 S. Main Street Royal Oak\, MI
UID:e.2933.4074
SEQUENCE:3
DTSTAMP:20260424T085508Z
URL:http://royaloakchamber.smartcms.site/events/details/ribbon-cutting-ceremony-hopcat-4074
END:VEVENT

END:VCALENDAR
