BEGIN:VCALENDAR
VERSION:2.0
PRODID:-//ChamberMaster//Event Calendar 2.0//EN
METHOD:PUBLISH
X-PUBLISHED-TTL:P3D
REFRESH-INTERVAL:P3D
CALSCALE:GREGORIAN
BEGIN:VEVENT
DTSTART:20230622T160000Z
DTEND:20230622T163000Z
X-MICROSOFT-CDO-ALLDAYEVENT:FALSE
SUMMARY:Ribbon Cutting Ceremony Executive Studio
DESCRIPTION:Please join us in welcoming Executive Studios to the ROCC with a Ribbon Cutting Ceremony!
X-ALT-DESC;FMTTYPE=text/html:Please join us in welcoming Executive Studios to the ROCC with a Ribbon Cutting Ceremony!
LOCATION:Executive Studios Inc. 30371 Woodward Ave. Royal Oak\, MI 48073
UID:e.2933.4144
SEQUENCE:3
DTSTAMP:20260423T220402Z
URL:http://royaloakchamber.smartcms.site/events/details/ribbon-cutting-ceremony-executive-studio-4144
END:VEVENT

END:VCALENDAR
