BEGIN:VCALENDAR
VERSION:2.0
PRODID:-//ChamberMaster//Event Calendar 2.0//EN
METHOD:PUBLISH
X-PUBLISHED-TTL:P3D
REFRESH-INTERVAL:P3D
CALSCALE:GREGORIAN
BEGIN:VEVENT
DTSTART:20221104T210000Z
DTEND:20221104T211500Z
X-MICROSOFT-CDO-ALLDAYEVENT:FALSE
SUMMARY:Ribbon Cutting Ceremony Elle MD
DESCRIPTION:Please join us in celebrating Elle MD with a Ribbon Cutting Ceremony!
X-ALT-DESC;FMTTYPE=text/html:Please join us in celebrating Elle MD with a Ribbon Cutting Ceremony!&nbsp\;
LOCATION:Elle MD 702 W. Eleven Mile Rd. Royal Oak\, MI 48067
UID:e.2933.4051
SEQUENCE:3
DTSTAMP:20260424T084156Z
URL:http://royaloakchamber.smartcms.site/events/details/ribbon-cutting-ceremony-elle-md-4051
END:VEVENT

END:VCALENDAR
