BEGIN:VCALENDAR
VERSION:2.0
PRODID:-//ChamberMaster//Event Calendar 2.0//EN
METHOD:PUBLISH
X-PUBLISHED-TTL:P3D
REFRESH-INTERVAL:P3D
CALSCALE:GREGORIAN
BEGIN:VEVENT
DTSTART:20221021T160000Z
DTEND:20221021T163000Z
X-MICROSOFT-CDO-ALLDAYEVENT:FALSE
SUMMARY:Ribbon Cutting Ceremony Burrwood Veterinary\, P.C.
DESCRIPTION:Please join us in celebrating the grand opening of Burrwood Veterinary\, P.C. with a Ribbon Cutting Ceremony!
X-ALT-DESC;FMTTYPE=text/html:Please join us in celebrating the grand opening of Burrwood Veterinary\, P.C. with a Ribbon Cutting Ceremony!
LOCATION:Burrwood Veterinary\, P.C. 4245 W. Fourteen Mile Rd. Royal Oak\, MI 48073
UID:e.2933.4035
SEQUENCE:3
DTSTAMP:20260424T010052Z
URL:http://royaloakchamber.smartcms.site/events/details/ribbon-cutting-ceremony-burrwood-veterinary-p-c-4035
END:VEVENT

END:VCALENDAR
