BEGIN:VCALENDAR
VERSION:2.0
PRODID:-//ChamberMaster//Event Calendar 2.0//EN
METHOD:PUBLISH
X-PUBLISHED-TTL:P3D
REFRESH-INTERVAL:P3D
CALSCALE:GREGORIAN
BEGIN:VEVENT
DTSTART:20241010T160000Z
DTEND:20241010T163000Z
X-MICROSOFT-CDO-ALLDAYEVENT:FALSE
SUMMARY:Ribbon Cutting Ceremony- BODY20
DESCRIPTION:Please join us in welcoming Body20 to the ROCC with a Ribbon Cutting Ceremony! We hope you can join us in supporting a new member.
X-ALT-DESC;FMTTYPE=text/html:Please join us in welcoming Body20 to the ROCC with a Ribbon Cutting Ceremony! We hope you can join us in supporting a new member.&nbsp\;
LOCATION:Body20 25030 Woodward Ave. Royal Oak\, MI 48067
UID:e.2933.4427
SEQUENCE:3
DTSTAMP:20260423T093925Z
URL:http://royaloakchamber.smartcms.site/events/details/ribbon-cutting-ceremony-body20-4427
END:VEVENT

END:VCALENDAR
