BEGIN:VCALENDAR
VERSION:2.0
PRODID:-//ChamberMaster//Event Calendar 2.0//EN
METHOD:PUBLISH
X-PUBLISHED-TTL:P3D
REFRESH-INTERVAL:P3D
CALSCALE:GREGORIAN
BEGIN:VEVENT
DTSTART:20260515T160000Z
DTEND:20260515T163000Z
X-MICROSOFT-CDO-ALLDAYEVENT:FALSE
SUMMARY:Ribbon Cutting Ceremony Badd Kitty
DESCRIPTION:Please join us in celebrating our newest member\, Badd Kitty\, with a ribbon cutting ceremony! Please register so we know you'll be joining us in support. \n\nhttp://www.baddkittystores.com
X-ALT-DESC;FMTTYPE=text/html:<span style="font-size:18px\;"><span style="font-family:arial\;">Please join us in celebrating our newest member\, <strong>Badd Kitty</strong>\, with a ribbon cutting ceremony!&nbsp\;Please register so we know you&#39\;ll be joining us in support.&nbsp\;</span></span><br />\n<span style="font-size:18px\;"><span style="font-family:arial\;"><a href="http://www.baddkittystores.com">http://www.baddkittystores.com</a></span></span>
LOCATION:Badd Kitty 124 W. Fourth St. Royal Oak\, MI 48067
UID:e.2933.6735
SEQUENCE:3
DTSTAMP:20260420T212135Z
URL:http://royaloakchamber.smartcms.site/events/details/ribbon-cutting-ceremony-badd-kitty-6735
END:VEVENT

END:VCALENDAR
