BEGIN:VCALENDAR
VERSION:2.0
PRODID:-//ChamberMaster//Event Calendar 2.0//EN
METHOD:PUBLISH
X-PUBLISHED-TTL:P3D
REFRESH-INTERVAL:P3D
CALSCALE:GREGORIAN
BEGIN:VEVENT
DTSTART:20230607T213000Z
DTEND:20230607T220000Z
X-MICROSOFT-CDO-ALLDAYEVENT:FALSE
SUMMARY:Ribbon Cutting Ceremony Assured Partners of Michigan
DESCRIPTION:Please join us for a Ribbon Cutting Ceremony in welcoming Assured Partners of Michigan to the ROCC! The Royal Oak Office will host a Grand Opening from 3pm-7pm\, drinks and appetizers will be served. Please arrive for the Ribbon Cutting Ceremony by 5:15pm.
X-ALT-DESC;FMTTYPE=text/html:Please join us for a Ribbon Cutting Ceremony in welcoming Assured Partners of Michigan to the ROCC! The Royal Oak Office will host a Grand Opening from 3pm-7pm\, drinks and appetizers will be served. Please arrive for the Ribbon Cutting Ceremony by 5:15pm.&nbsp\;
LOCATION:AssuredPartners of Michigan 423 N. Main Street. Suite 100 Royal Oak\, MI 48067
UID:e.2933.4138
SEQUENCE:3
DTSTAMP:20260423T222717Z
URL:http://royaloakchamber.smartcms.site/events/details/ribbon-cutting-ceremony-assured-partners-of-michigan-4138
END:VEVENT

END:VCALENDAR
