BEGIN:VCALENDAR
VERSION:2.0
PRODID:-//ChamberMaster//Event Calendar 2.0//EN
METHOD:PUBLISH
X-PUBLISHED-TTL:P3D
REFRESH-INTERVAL:P3D
CALSCALE:GREGORIAN
BEGIN:VEVENT
DTSTART:20210120T170000Z
DTEND:20210120T170000Z
X-MICROSOFT-CDO-ALLDAYEVENT:FALSE
SUMMARY:Resumés: A Deeper Dive
DESCRIPTION:Cost: No Charge   How Technology Impacts Job Searches   Importance of Key Words   Structuring A Resume to Secure an Interview
X-ALT-DESC;FMTTYPE=text/html:Cost: No Charge &bull\; How Technology Impacts Job Searches &bull\; Importance of Key Words &bull\; Structuring A Resume to Secure an Interview
LOCATION:Webinar
UID:e.2933.3495
SEQUENCE:3
DTSTAMP:20260425T155813Z
URL:http://royaloakchamber.smartcms.site/events/details/resum&#233;s-a-deeper-dive-01-20-2021-3495
END:VEVENT

END:VCALENDAR
