BEGIN:VCALENDAR
VERSION:2.0
PRODID:-//ChamberMaster//Event Calendar 2.0//EN
METHOD:PUBLISH
X-PUBLISHED-TTL:P3D
REFRESH-INTERVAL:P3D
CALSCALE:GREGORIAN
BEGIN:VEVENT
DTSTART:20210113T150000Z
DTEND:20210113T160000Z
X-MICROSOFT-CDO-ALLDAYEVENT:FALSE
SUMMARY:Resumé Writing: Resumes and Cover Letters
DESCRIPTION:Cost: No Charge   3 Main Types of Resumes: Chronological\, Functional\, Combination   Resume Etiquette (do's & don'ts)   Key Components of a Cover Letter
X-ALT-DESC;FMTTYPE=text/html:Cost: No Charge &bull\; 3 Main Types of Resumes: Chronological\, Functional\, Combination &bull\; Resume Etiquette (do&rsquo\;s &amp\; don&rsquo\;ts) &bull\; Key Components of a Cover Letter
LOCATION:Webinar
UID:e.2933.3491
SEQUENCE:3
DTSTAMP:20260425T160040Z
URL:http://royaloakchamber.smartcms.site/events/details/resum&#233;-writing-resumes-and-cover-letters-3491
END:VEVENT

END:VCALENDAR
