BEGIN:VCALENDAR
VERSION:2.0
PRODID:-//ChamberMaster//Event Calendar 2.0//EN
METHOD:PUBLISH
X-PUBLISHED-TTL:P3D
REFRESH-INTERVAL:P3D
CALSCALE:GREGORIAN
BEGIN:VEVENT
DTSTART:20200701T140000Z
DTEND:20200826T150000Z
X-MICROSOFT-CDO-ALLDAYEVENT:FALSE
SUMMARY:Resumé Writing: Introduction to Resumes and Cover Letters
DESCRIPTION:Resume Writing: Introduction to Resumes and Cover Letters - The three different types of resumes (chronological\, functional and combination) - The key components of the resume - The do's and don'ts on a resume Multiple sessions to choose from. The workshops will be recorded so people can view them at a later date at OaklandCountyMIWorks.com.
X-ALT-DESC;FMTTYPE=text/html:Resume Writing: Introduction to Resumes and Cover Letters - The three different types of resumes (chronological\, functional and combination) - The key components of the resume - The do&rsquo\;s and don&rsquo\;ts on a resume Multiple sessions to choose from. The workshops will be recorded so people can view them at a later date at OaklandCountyMIWorks.com.
LOCATION:Webinar
UID:e.2933.3332
SEQUENCE:3
DTSTAMP:20260426T004324Z
URL:http://royaloakchamber.smartcms.site/events/details/resum&#233;-writing-introduction-to-resumes-and-cover-letters-3332
END:VEVENT

END:VCALENDAR
