BEGIN:VCALENDAR
VERSION:2.0
PRODID:-//ChamberMaster//Event Calendar 2.0//EN
METHOD:PUBLISH
X-PUBLISHED-TTL:P3D
REFRESH-INTERVAL:P3D
CALSCALE:GREGORIAN
BEGIN:VEVENT
DTSTART:20201231T030000Z
DTEND:20201231T040000Z
X-MICROSOFT-CDO-ALLDAYEVENT:FALSE
SUMMARY:Resumé Writing: Introduction to Resumes and Cover Letters
DESCRIPTION:3 Main Types of Resumes: Chronological\, Functional\, Combination Resume Etiquette (do's & don'ts) Key Components of a Cover Letter Multiple sessions to choose from. The workshops will be recorded so people can view them at a later date at OaklandCountyMIWorks.com.
X-ALT-DESC;FMTTYPE=text/html:3 Main Types of Resumes: Chronological\, Functional\, Combination Resume Etiquette (do&rsquo\;s &amp\; don&rsquo\;ts) Key Components of a Cover Letter Multiple sessions to choose from. The workshops will be recorded so people can view them at a later date at OaklandCountyMIWorks.com.
LOCATION:Online Event
UID:e.2933.3438
SEQUENCE:3
DTSTAMP:20260425T192639Z
URL:http://royaloakchamber.smartcms.site/events/details/resum&#233;-writing-introduction-to-resumes-and-cover-letters-12-30-2020-3438
END:VEVENT

END:VCALENDAR
