BEGIN:VCALENDAR
VERSION:2.0
PRODID:-//ChamberMaster//Event Calendar 2.0//EN
METHOD:PUBLISH
X-PUBLISHED-TTL:P3D
REFRESH-INTERVAL:P3D
CALSCALE:GREGORIAN
BEGIN:VEVENT
DTSTART:20200624T140000Z
DTEND:20200819T150000Z
X-MICROSOFT-CDO-ALLDAYEVENT:FALSE
SUMMARY:Resumes Continued
DESCRIPTION:Resum  Writing Continued - How Technology Impacts Job Searches - Importance of Key Words - Structuring A Resume to Secure an Interview Multiple sessions to choose from. The workshops will be recorded so people can view them at a later date at OaklandCountyMIWorks.com.
X-ALT-DESC;FMTTYPE=text/html:Resum&eacute\; Writing Continued - How Technology Impacts Job Searches - Importance of Key Words - Structuring A Resume to Secure an Interview Multiple sessions to choose from. The workshops will be recorded so people can view them at a later date at OaklandCountyMIWorks.com.
LOCATION:Webinar
UID:e.2933.3331
SEQUENCE:3
DTSTAMP:20260426T004214Z
URL:http://royaloakchamber.smartcms.site/events/details/resumes-continued-3331
END:VEVENT

END:VCALENDAR
