BEGIN:VCALENDAR
VERSION:2.0
PRODID:-//ChamberMaster//Event Calendar 2.0//EN
METHOD:PUBLISH
X-PUBLISHED-TTL:P3D
REFRESH-INTERVAL:P3D
CALSCALE:GREGORIAN
BEGIN:VEVENT
DTSTART:20200610T143000Z
DTEND:20200610T153000Z
X-MICROSOFT-CDO-ALLDAYEVENT:FALSE
SUMMARY:Reshaping the Workplace
DESCRIPTION:Workers will not return to the same workplace they left. Please join us for a webinar presented by Nick Weise\, Principle at Rightsize Facility. He will be diving into the advanced planning for the return to work through a thoughtful redesign\, retrofit\, reconfiguration and installation of protective products.
X-ALT-DESC;FMTTYPE=text/html:Workers will not return to the same workplace they left. Please join us for a webinar presented by Nick Weise\, Principle at Rightsize Facility. He will be diving into the advanced planning for the return to work through a thoughtful redesign\, retrofit\, reconfiguration and installation of protective products.&nbsp\;
LOCATION:Webinar Zoom link will be emailed on Wednesday\, June 3
UID:e.2933.3322
SEQUENCE:3
DTSTAMP:20260426T034550Z
URL:http://royaloakchamber.smartcms.site/events/details/reshaping-the-workplace-3322
END:VEVENT

END:VCALENDAR
