BEGIN:VCALENDAR
VERSION:2.0
PRODID:-//ChamberMaster//Event Calendar 2.0//EN
METHOD:PUBLISH
X-PUBLISHED-TTL:P3D
REFRESH-INTERVAL:P3D
CALSCALE:GREGORIAN
BEGIN:VEVENT
DTSTART:20230611T210000Z
DTEND:20230612T020000Z
X-MICROSOFT-CDO-ALLDAYEVENT:FALSE
SUMMARY:Rent Party
DESCRIPTION:In the spirit of the rent party tradition\, which offered a DIY solution for families facing eviction in the 1920's\, playing a major role in the historic development of jazz and blues music\, Lighthouse presents the 7th Annual Rent Party. The evening will feature tours of historic Meadow Brook Hall\, dinner under their Garden Tent\, and music from some of the best local jazz performers. If you are unfamiliar with Meadow Brook Hall\, it is a Tudor revival style mansion built in the mid-1920s by the heiress to the Dodge automaker fortune\, Matilda Dodge Wilson. Please consider partnering with us this year to help raise critical funds for our housing and shelter programs\, which assist thousands of struggling families each year.
X-ALT-DESC;FMTTYPE=text/html:<span style="color:rgb(17\, 17\, 17)\; font-family:arial\,helvetica\,sans-serif\; font-size:14px">In the spirit of the rent party tradition\, which offered&nbsp\;a DIY solution for families facing eviction in the 1920&#39\;s\, playing a major role in the historic development of jazz and blues music\, Lighthouse presents the&nbsp\;</span><span style="color:rgb(17\, 17\, 17)\; font-family:arial\,helvetica\,sans-serif\; font-size:14px">7th Annual Rent Party.&nbsp\;</span><span style="color:rgb(0\, 0\, 0)\; font-family:arial\,helvetica\,sans-serif\; font-size:14px">The evening will feature tours of historic Meadow Brook Hall\, dinner under their Garden Tent\, and music from some of the best local jazz performers. If you are unfamiliar with Meadow Brook Hall\, it is a Tudor revival style mansion built in the mid-1920s by the heiress to the Dodge automaker fortune\, Matilda Dodge Wilson.&nbsp\;</span><span style="color:rgb(0\, 0\, 0)\; font-family:arial\,helvetica\,sans-serif\; font-size:14px">Please consider partnering with us this year to help raise critical funds for our housing and shelter programs\, which assist thousands of struggling families each year.</span>
LOCATION:Meadow Brook Hall - 350 Estate Drive\, Rochester\, MI 48309
UID:e.2933.4113
SEQUENCE:3
DTSTAMP:20260423T220510Z
URL:http://royaloakchamber.smartcms.site/events/details/rent-party-4113
END:VEVENT

END:VCALENDAR
