BEGIN:VCALENDAR
VERSION:2.0
PRODID:-//ChamberMaster//Event Calendar 2.0//EN
METHOD:PUBLISH
X-PUBLISHED-TTL:P3D
REFRESH-INTERVAL:P3D
CALSCALE:GREGORIAN
BEGIN:VEVENT
DTSTART:20220914T200000Z
DTEND:20220915T000000Z
X-MICROSOFT-CDO-ALLDAYEVENT:FALSE
SUMMARY:Rebrand Your Career
DESCRIPTION:Are you in need of an updated headshot and resume OR LinkedIn profile? This is the event for you! We're partnering with Shelby Dubin Photography to give you an exclusive event to rebrand your career.\n\n\n\nUsing our expert resume writers\, you will get one-on-one time to ask any questions\, a full critique of your resume\, and a strategic plan created to achieve your career goals.\n\n\n\nOR\n\n\n\nWe will audit your LinkedIn profile to make you stand out! We receive thousands of views across LinkedIn and can help you do the same!\n\n\n\nHaven't updated your LinkedIn picture in a while? Shelby Dubin\, an expert brand photographer\, will take your newest headshots that can be used across platforms.\n\n\n\nThis is an event you don't want to miss! Space is limited. If interested\, please message us for more details.
X-ALT-DESC;FMTTYPE=text/html:<span style="color:rgba(0\, 0\, 0\, 0.9)\; font-family:-apple-system\,system-ui\,blinkmacsystemfont\,segoe ui\,roboto\,helvetica neue\,fira sans\,ubuntu\,oxygen\,oxygen sans\,cantarell\,droid sans\,apple color emoji\,segoe ui emoji\,segoe ui emoji\,segoe ui symbol\,lucida grande\,helvetica\,arial\,sans-serif\; font-size:14px">Are you in need of an updated headshot and resume OR LinkedIn profile? This is the event for you! We&#39\;re partnering with Shelby Dubin Photography to give you an exclusive event to rebrand your career.</span><br />\n<br />\n<span style="color:rgba(0\, 0\, 0\, 0.9)\; font-family:-apple-system\,system-ui\,blinkmacsystemfont\,segoe ui\,roboto\,helvetica neue\,fira sans\,ubuntu\,oxygen\,oxygen sans\,cantarell\,droid sans\,apple color emoji\,segoe ui emoji\,segoe ui emoji\,segoe ui symbol\,lucida grande\,helvetica\,arial\,sans-serif\; font-size:14px">Using our expert resume writers\, you will get one-on-one time to ask any questions\, a full critique of your resume\, and a strategic plan created to achieve your career goals.</span><br />\n<br />\n<span style="color:rgba(0\, 0\, 0\, 0.9)\; font-family:-apple-system\,system-ui\,blinkmacsystemfont\,segoe ui\,roboto\,helvetica neue\,fira sans\,ubuntu\,oxygen\,oxygen sans\,cantarell\,droid sans\,apple color emoji\,segoe ui emoji\,segoe ui emoji\,segoe ui symbol\,lucida grande\,helvetica\,arial\,sans-serif\; font-size:14px">OR</span><br />\n<br />\n<span style="color:rgba(0\, 0\, 0\, 0.9)\; font-family:-apple-system\,system-ui\,blinkmacsystemfont\,segoe ui\,roboto\,helvetica neue\,fira sans\,ubuntu\,oxygen\,oxygen sans\,cantarell\,droid sans\,apple color emoji\,segoe ui emoji\,segoe ui emoji\,segoe ui symbol\,lucida grande\,helvetica\,arial\,sans-serif\; font-size:14px">We will audit your LinkedIn profile to make you stand out! We receive thousands of views across LinkedIn and can help you do the same!</span><br />\n<br />\n<span style="color:rgba(0\, 0\, 0\, 0.9)\; font-family:-apple-system\,system-ui\,blinkmacsystemfont\,segoe ui\,roboto\,helvetica neue\,fira sans\,ubuntu\,oxygen\,oxygen sans\,cantarell\,droid sans\,apple color emoji\,segoe ui emoji\,segoe ui emoji\,segoe ui symbol\,lucida grande\,helvetica\,arial\,sans-serif\; font-size:14px">Haven&#39\;t updated your LinkedIn picture in a while? Shelby Dubin\, an expert brand photographer\, will take your newest headshots that can be used across platforms.</span><br />\n<br />\n<span style="color:rgba(0\, 0\, 0\, 0.9)\; font-family:-apple-system\,system-ui\,blinkmacsystemfont\,segoe ui\,roboto\,helvetica neue\,fira sans\,ubuntu\,oxygen\,oxygen sans\,cantarell\,droid sans\,apple color emoji\,segoe ui emoji\,segoe ui emoji\,segoe ui symbol\,lucida grande\,helvetica\,arial\,sans-serif\; font-size:14px">This is an event you don&#39\;t want to miss! Space is limited. If interested\, please message us for more details.</span>
LOCATION:Bamboo Royal Oak 220 S. Main St. Royal Oak\, MI 48067
UID:e.2933.4028
SEQUENCE:3
DTSTAMP:20260424T045233Z
URL:http://royaloakchamber.smartcms.site/events/details/rebrand-your-career-4028
END:VEVENT

END:VCALENDAR
