BEGIN:VCALENDAR
VERSION:2.0
PRODID:-//ChamberMaster//Event Calendar 2.0//EN
METHOD:PUBLISH
X-PUBLISHED-TTL:P3D
REFRESH-INTERVAL:P3D
CALSCALE:GREGORIAN
BEGIN:VEVENT
DTSTART:20210813T120000Z
DTEND:20210813T130000Z
X-MICROSOFT-CDO-ALLDAYEVENT:FALSE
SUMMARY:Ray's Ice Cream Coffee Connection
DESCRIPTION:Join us for some morning networking at Ray's Ice-Cream!
X-ALT-DESC;FMTTYPE=text/html:Join us for some morning networking at Ray&#39\;s Ice-Cream!
LOCATION:Ray's Ice cream 4233 Coolidge Hwy. Royal Oak\, MI 48073
UID:e.2933.3829
SEQUENCE:3
DTSTAMP:20260425T000737Z
URL:http://royaloakchamber.smartcms.site/events/details/ray-s-ice-cream-coffee-connection-3829
END:VEVENT

END:VCALENDAR
