BEGIN:VCALENDAR
VERSION:2.0
PRODID:-//ChamberMaster//Event Calendar 2.0//EN
METHOD:PUBLISH
X-PUBLISHED-TTL:P3D
REFRESH-INTERVAL:P3D
CALSCALE:GREGORIAN
BEGIN:VEVENT
DTSTART:20240415T230000Z
DTEND:20240416T010000Z
X-MICROSOFT-CDO-ALLDAYEVENT:FALSE
SUMMARY:Quizzo Trivia
DESCRIPTION:Join us for Quizzo Trivia!\n\nEvery Monday night starting at 7 pm!\n\nAssemble your best trivia team and compete head to head against others!
X-ALT-DESC;FMTTYPE=text/html:<div>Join us for Quizzo Trivia!</div>\n\n<div>Every Monday night starting at 7 pm!</div>\n\n<div>Assemble your best trivia team and compete head to head against others!</div>\n
LOCATION:Brown Iron Brewhouse Royal Oak
UID:e.2933.4265
SEQUENCE:3
DTSTAMP:20260422T224111Z
URL:http://royaloakchamber.smartcms.site/events/details/quizzo-trivia-04-15-2024-4265
END:VEVENT

END:VCALENDAR
