BEGIN:VCALENDAR
VERSION:2.0
PRODID:-//ChamberMaster//Event Calendar 2.0//EN
METHOD:PUBLISH
X-PUBLISHED-TTL:P3D
REFRESH-INTERVAL:P3D
CALSCALE:GREGORIAN
BEGIN:VEVENT
DTSTART:20200825T170000Z
DTEND:20200825T180000Z
X-MICROSOFT-CDO-ALLDAYEVENT:FALSE
SUMMARY:Projecting Cash Flow – Surviving Business Interruptions and Beyond
DESCRIPTION:This may be the most important class a small business owner will ever take. This virtual workshop will help you gain a greater understanding of the cash demands required to successfully manage a business. Cash-flow for normal\, emergency and recovery scenarios are covered\, including use and concepts of the Cash Flow Projection Workbook (course materials). A good cash flow management system is paramount to the success of your business. This workshop is for new and existing businesses.
X-ALT-DESC;FMTTYPE=text/html:This may be the most important class a small business owner will ever take. This virtual workshop will help you gain a greater understanding of the cash demands required to successfully manage a business. Cash-flow for normal\, emergency and recovery scenarios are covered\, including use and concepts of the Cash Flow Projection Workbook (course materials). A good cash flow management system is paramount to the success of your business. This workshop is for new and existing businesses.
LOCATION:Webinar
UID:e.2933.3340
SEQUENCE:3
DTSTAMP:20260426T004245Z
URL:http://royaloakchamber.smartcms.site/events/details/projecting-cash-flow-surviving-business-interruptions-and-beyond-3340
END:VEVENT

END:VCALENDAR
