BEGIN:VCALENDAR
VERSION:2.0
PRODID:-//ChamberMaster//Event Calendar 2.0//EN
METHOD:PUBLISH
X-PUBLISHED-TTL:P3D
REFRESH-INTERVAL:P3D
CALSCALE:GREGORIAN
BEGIN:VEVENT
DTSTART:20210715T213000Z
DTEND:20210715T220000Z
X-MICROSOFT-CDO-ALLDAYEVENT:FALSE
SUMMARY:Prism Park Optical-Ribbon Cutting Ceremony
DESCRIPTION:Please join us\, alongside SOAR (South Oakland Area Regional Chamber of Commerce)\, in welcoming Prism Park Optical to Royal Oak!  Ribbon Cutting Ceremony to begin at 5:30PM.
X-ALT-DESC;FMTTYPE=text/html:Please join us\, alongside SOAR (South Oakland Area Regional Chamber of Commerce)\, in welcoming Prism Park Optical to Royal Oak!&nbsp\; Ribbon Cutting Ceremony to begin at 5:30PM.
LOCATION:319 S. Washington Ave. Royal Oak\, MI 48067
UID:e.2933.3818
SEQUENCE:3
DTSTAMP:20260425T020615Z
URL:http://royaloakchamber.smartcms.site/events/details/prism-park-optical-ribbon-cutting-ceremony-3818
END:VEVENT

END:VCALENDAR
