BEGIN:VCALENDAR
VERSION:2.0
PRODID:-//ChamberMaster//Event Calendar 2.0//EN
METHOD:PUBLISH
X-PUBLISHED-TTL:P3D
REFRESH-INTERVAL:P3D
CALSCALE:GREGORIAN
BEGIN:VEVENT
DTSTART:20240606T230000Z
DTEND:20240607T010000Z
X-MICROSOFT-CDO-ALLDAYEVENT:FALSE
SUMMARY:Pride Trivia
DESCRIPTION:Join us for a fun night of Pride themed trivia with our friends from Quizzo!\n\nGo head to head against others and compete to see who comes out the winner!\n\nAny and all updates will be made on our Facebook event!
X-ALT-DESC;FMTTYPE=text/html:<div>Join us for a fun night of Pride themed trivia with our friends from Quizzo!</div>\n\n<div>Go head to head against others and compete to see who comes out the winner!</div>\n\n<div>Any and all updates will be made on our Facebook event!</div>\n
LOCATION:30955 Woodward Ave\, Unit 510 Royal Oak MI
UID:e.2933.4357
SEQUENCE:3
DTSTAMP:20260423T021837Z
URL:http://royaloakchamber.smartcms.site/events/details/pride-trivia-4357
END:VEVENT

END:VCALENDAR
