BEGIN:VCALENDAR
VERSION:2.0
PRODID:-//ChamberMaster//Event Calendar 2.0//EN
METHOD:PUBLISH
X-PUBLISHED-TTL:P3D
REFRESH-INTERVAL:P3D
CALSCALE:GREGORIAN
BEGIN:VEVENT
DTSTART:20220627T120000Z
DTEND:20220627T130000Z
X-MICROSOFT-CDO-ALLDAYEVENT:FALSE
SUMMARY:Power Hour Breakfast & Networking
DESCRIPTION:Are you a new member or new employee to an existing ROCC member? If so\, you are invited to our Power Hour\; come learn all about the benefits the ROCC has to offer. Register to join.
X-ALT-DESC;FMTTYPE=text/html:<span style="color: rgb(64\, 63\, 66)\; font-family: Arial\, Verdana\, Helvetica\, sans-serif\; font-size: 16px\; white-space: pre-wrap\; background-color: rgb(255\, 255\, 255)\;">Are you a new member or new employee to an existing ROCC member? If so\, you are invited to our Power Hour\; come learn all about the benefits the ROCC has to offer. Register to join.</span>
LOCATION:Royal Oak Chamber of Commerce 200 S. Washington Ave. Royal Oak\, MI 48067
UID:e.2933.3996
SEQUENCE:3
DTSTAMP:20260424T061640Z
URL:http://royaloakchamber.smartcms.site/events/details/power-hour-breakfast-networking-3996
END:VEVENT

END:VCALENDAR
