BEGIN:VCALENDAR
VERSION:2.0
PRODID:-//ChamberMaster//Event Calendar 2.0//EN
METHOD:PUBLISH
X-PUBLISHED-TTL:P3D
REFRESH-INTERVAL:P3D
CALSCALE:GREGORIAN
BEGIN:VEVENT
DTSTART:20240731T210000Z
DTEND:20240731T220000Z
X-MICROSOFT-CDO-ALLDAYEVENT:FALSE
SUMMARY:Planning for Life's Big Moments
DESCRIPTION:Join us online for the next presentation in our educational webinar series: Planning for Life's Big Moments sponsored by Fidelity. What do you need to consider for those large purchases\, or education planning for your kids or grandkids\, and how do you plan for the unknown\, like changes in your health? Join us while we discuss what you need to be asking yourself and how to plan ahead for life's big moments! Register here: https://events.teams.microsoft.com/event/c428c2d8-ce93-4a99-9cbf-351e23a75c04@483a41c9-68f7-4f11-8ef5-3888d6cc1808
X-ALT-DESC;FMTTYPE=text/html:Join us online for the next presentation in our educational webinar series: Planning for Life&rsquo\;s Big Moments sponsored by Fidelity. What do you need to consider for those large purchases\, or education planning for your kids or grandkids\, and how do you plan for the unknown\, like changes in your health? Join us while we discuss what you need to be asking yourself and how to plan ahead for life&rsquo\;s big moments! Register here: https://events.teams.microsoft.com/event/c428c2d8-ce93-4a99-9cbf-351e23a75c04@483a41c9-68f7-4f11-8ef5-3888d6cc1808
LOCATION:Microsoft Teams https://events.teams.microsoft.com/event/c428c2d8-ce93-4a99-9cbf-351e23a75c04@483a41c9-68f7-4f11-8ef5-3888d6cc1808
UID:e.2933.4396
SEQUENCE:3
DTSTAMP:20260423T022720Z
URL:http://royaloakchamber.smartcms.site/events/details/planning-for-life-s-big-moments-4396
END:VEVENT

END:VCALENDAR
